BEGIN:VCALENDAR
VERSION:2.0
PRODID:-//wp-events-plugin.com//7.2.2.1//EN
TZID:Asia/Tokyo
X-WR-TIMEZONE:Asia/Tokyo
BEGIN:VEVENT
UID:242@osaka-kosodate-fukushima.net
DTSTART;TZID=Asia/Tokyo:20240314T093000
DTEND;TZID=Asia/Tokyo:20240314T113000
DTSTAMP:20240215T004806Z
URL:https://osaka-kosodate-fukushima.net/events/%e3%82%a6%e3%82%ad%e3%82%a
 6%e3%82%ad%e8%ba%ab%e4%bd%93%e6%b8%ac%e5%ae%9a%e3%80%8a%e5%8a%a9%e7%94%a3%
 e5%b8%ab%e7%9b%b8%e8%ab%8710%ef%bc%9a15%ef%bd%9e11%ef%bc%9a15%e3%80%8b-3/
SUMMARY:ウキウキ身体測定《助産師相談10：15～11：15》
DESCRIPTION:
ATTACH;FMTTYPE=image/jpeg:https://osaka-kosodate-fukushima.net/wp-content/
 uploads/2023/03/身体測定-scaled.jpg
CATEGORIES:乳幼児,保護者・支援者
LOCATION:福島区子ども・子育てプラザ4階軽運動室\, 海老
 江６丁目１−１４\, 大阪市福島区\, 553-0001\, 日本
X-APPLE-STRUCTURED-LOCATION;VALUE=URI;X-ADDRESS=海老江６丁目１−１
 ４\, 大阪市福島区\, 553-0001\, 日本;X-APPLE-RADIUS=100;X-TITLE=
 福島区子ども・子育てプラザ4階軽運動室:geo:0,0
END:VEVENT
BEGIN:VTIMEZONE
TZID:Asia/Tokyo
X-LIC-LOCATION:Asia/Tokyo
BEGIN:STANDARD
DTSTART:20230315T093000
TZOFFSETFROM:+0900
TZOFFSETTO:+0900
TZNAME:JST
END:STANDARD
END:VTIMEZONE
END:VCALENDAR